BEGIN:VCALENDAR
VERSION:2.0
PRODID:-//https://www.eventi.ischia.it///NONSGML kigkonsult.se iCalcreator 2.10.15//
METHOD:PUBLISH
BEGIN:VEVENT
UID:20260420T062650UTC-9135u5WP6g@https://www.eventi.ischia.it/
DTSTAMP:20260420T062650Z
DESCRIPTION:Mostra Veranica Acunto\nIngresso Libero\n&nbsp\; https://www.ev
 enti.ischia.it/eventi-passati/evento/68454-mostra-veronica-acunto
DTSTART:20250414T173000Z
DTEND:20250414T190000Z
LOCATION:Villa Arbusto (Corso Angelo Rizzoli\, 194\, 80076 Lacco Ameno NA\,
  Italia)
SUMMARY:Mostra Veronica Acunto
URL:https://www.eventi.ischia.it/eventi-passati/evento/68454-mostra-veronic
 a-acunto
END:VEVENT
END:VCALENDAR
