BEGIN:VCALENDAR
VERSION:2.0
PRODID:-//https://www.eventi.ischia.it///NONSGML kigkonsult.se iCalcreator 2.10.15//
METHOD:PUBLISH
BEGIN:VEVENT
UID:20260421T045502UTC-74547V7mCr@https://www.eventi.ischia.it/
DTSTAMP:20260421T045502Z
DESCRIPTION:Nel corso dell'evento sarà donato all'Istituto 'Cristofaro Menn
 ella' un modellino della nave ammiraglia 'Amerigo Vespucci' realizzato dal
  dott. Gennaro Cappucciogiorno 20 marzo 2024 ore 10\,30 presso l'Auditoriu
 m 'Agostino Lauro' dell'Istituto Mennella - Via Michele Mazzella n.113 - I
 schiaIstituto d'Istruzione Superiore 'CRISTOFARO MENNELLA' https://www.eve
 nti.ischia.it/eventi-passati/evento/28818-clima-ambiente-ricerca-in-antart
 ide
DTSTART:20240320T093000Z
DTEND:20240320T120000Z
LOCATION:Auditorium 'I.I.S. Cristofaro Mennella' (Via Michele Mazzella\, 11
 3\, 80077 Ischia NA\, Italia)
SUMMARY:Clima ambiente ricerca in Antartide
URL:https://www.eventi.ischia.it/eventi-passati/evento/28818-clima-ambiente
 -ricerca-in-antartide
END:VEVENT
END:VCALENDAR
