BEGIN:VCALENDAR
VERSION:2.0
PRODID:-//https://www.eventi.ischia.it///NONSGML kigkonsult.se iCalcreator 2.10.15//
METHOD:PUBLISH
BEGIN:VEVENT
UID:20260422T013558UTC-3387Vwr30E@https://www.eventi.ischia.it/
DTSTAMP:20260422T013558Z
DESCRIPTION:30 Years Together – Lega Navale Italiana – Sezione Isola d'Isch
 ia\nWe look forward to welcoming you for an unforgettable evening\, with g
 reat music and delicious food!\nFebruary 27\, 2026 – 5:30 PMBanchina Olimp
 ica 4\, Ischia\nFor information: +39 377 0991303 https://www.eventi.ischia
 .it/en/past-events/event/249573-30-years-together
DTSTART:20260227T163000Z
DTEND:20260227T180000Z
LOCATION:Banchina Olimpica - Porto di Ischia (Via Iasolino\, 30\, 80077 Isc
 hia NA\, Italia)
SUMMARY:30 YEARS TOGETHER
URL:https://www.eventi.ischia.it/en/past-events/event/249573-30-years-toget
 her
END:VEVENT
END:VCALENDAR
