BEGIN:VCALENDAR
VERSION:2.0
PRODID:-//https://www.eventi.ischia.it///NONSGML kigkonsult.se iCalcreator 2.10.15//
METHOD:PUBLISH
BEGIN:VEVENT
UID:20260420T161410UTC-60715hIFE5@https://www.eventi.ischia.it/
DTSTAMP:20260420T161410Z
DESCRIPTION:An apericena to enjoy good food and great company.\nMonday\, Fe
 bruary 9From 5:30 PM to 8:00 PMAt the conference hall of IPS V. Telese htt
 ps://www.eventi.ischia.it/en/past-events/event/249534-apericena-at-telese
DTSTART:20260209T163000Z
DTEND:20260209T190000Z
LOCATION:IPS 'Vincenzo Telese' (Via Fondo Bosso\, 3\, 80077 Ischia NA\, Ita
 lia)
SUMMARY:Apericena at Telese
URL:https://www.eventi.ischia.it/en/past-events/event/249534-apericena-at-t
 elese
END:VEVENT
END:VCALENDAR
