BEGIN:VCALENDAR
VERSION:2.0
PRODID:-//https://www.eventi.ischia.it///NONSGML kigkonsult.se iCalcreator 2.10.15//
METHOD:PUBLISH
BEGIN:VEVENT
UID:20260421T143050UTC-6719Iai95r@https://www.eventi.ischia.it/
DTSTAMP:20260421T143050Z
DESCRIPTION:Team Event (max 5 people)Search\, solve\, follow the clues… and
  win!\nFor information and registration: 3487562291Gertrud Streicher Assoc
 iation\nAssociationUnder the patronage of Gertrud Streicher – Succhivo htt
 ps://www.eventi.ischia.it/en/past-events/event/249464-carnival-treasure-hu
 nt
DTSTART:20260215T140000Z
DTEND:20260215T170000Z
LOCATION:Succhivo (Provinciale Succhivo Sant'Angelo\, 21-27\, 80070 Sant'An
 gelo NA\, Italy)
SUMMARY:Carnival: TREASURE HUNT
URL:https://www.eventi.ischia.it/en/past-events/event/249464-carnival-treas
 ure-hunt
END:VEVENT
END:VCALENDAR
