BEGIN:VCALENDAR
VERSION:2.0
PRODID:-//https://www.eventi.ischia.it///NONSGML kigkonsult.se iCalcreator 2.10.15//
METHOD:PUBLISH
BEGIN:VEVENT
UID:20260419T222209UTC-7063xXzkHu@https://www.eventi.ischia.it/
DTSTAMP:20260419T222209Z
DESCRIPTION:Christmas party in Testaccio https://www.eventi.ischia.it/en/pa
 st-events/event/249322-christmas-party
DTSTART:20251222T180000Z
DTEND:20251222T200000Z
LOCATION:Piazza Mar del Plata Testaccio (Via Provinciale Croce di Testaccio
 \, 18\, 80070 Barano D'ischia NA\, Italy)
SUMMARY:Christmas party
URL:https://www.eventi.ischia.it/en/past-events/event/249322-christmas-part
 y
END:VEVENT
END:VCALENDAR
