BEGIN:VCALENDAR
VERSION:2.0
PRODID:-//https://www.eventi.ischia.it///NONSGML kigkonsult.se iCalcreator 2.10.15//
METHOD:PUBLISH
BEGIN:VEVENT
UID:20260421T002755UTC-8678D9T0dw@https://www.eventi.ischia.it/
DTSTAMP:20260421T002755Z
DESCRIPTION: https://www.eventi.ischia.it/en/events/event/31457-casamicciol
 a-sapori-e-tradizioni
DTSTART:20240721T190000Z
DTEND:20240721T213900Z
LOCATION:Corso Luigi Manzi\, 95\, 80074 Casamicciola Terme NA\, Italia ()
SUMMARY:Casamicciola: sapori e tradizioni
URL:https://www.eventi.ischia.it/en/events/event/31457-casamicciola-sapori-
 e-tradizioni
END:VEVENT
END:VCALENDAR
