BEGIN:VCALENDAR
VERSION:2.0
PRODID:-//https://www.eventi.ischia.it///NONSGML kigkonsult.se iCalcreator 2.10.15//
METHOD:PUBLISH
BEGIN:VEVENT
UID:20260420T074108UTC-81928kugOm@https://www.eventi.ischia.it/
DTSTAMP:20260420T074108Z
DESCRIPTION:Emozioni sui pattini https://www.eventi.ischia.it/en/events/eve
 nt/31000-emozioni-sui-pattini
DTSTART:20240705T190000Z
DTEND:20240705T213000Z
LOCATION:Palasport F.Taglialatela (Via Fondo Bosso\, 80077 Ischia NA\, Ital
 ia)
SUMMARY:Emozioni sui pattini
URL:https://www.eventi.ischia.it/en/events/event/31000-emozioni-sui-pattini
END:VEVENT
END:VCALENDAR
