BEGIN:VCALENDAR
VERSION:2.0
PRODID:-//https://www.eventi.ischia.it///NONSGML kigkonsult.se iCalcreator 2.10.15//
METHOD:PUBLISH
BEGIN:VEVENT
UID:20260420T073759UTC-7355RXStcB@https://www.eventi.ischia.it/
DTSTAMP:20260420T073759Z
DESCRIPTION:24 Dicembre 31 Dicembreore 12:00: Brunch di Natale &amp\; Capod
 anno Ischia Porto - Riva Destra - Ischia Ponte https://www.eventi.ischia.i
 t/en/events/event/27600-brunch-di-natale-e-capodanno
DTSTART:20231231T110000Z
DTEND:20231231T150000Z
LOCATION:Riva Destra (Via Porto\, 33\, 80077 Ischia NA\, Italia)
SUMMARY: Brunch di Natale e Capodanno
URL:https://www.eventi.ischia.it/en/events/event/27600-brunch-di-natale-e-c
 apodanno
END:VEVENT
END:VCALENDAR
