BEGIN:VCALENDAR
VERSION:2.0
PRODID:-//https://www.eventi.ischia.it///NONSGML kigkonsult.se iCalcreator 2.10.15//
METHOD:PUBLISH
BEGIN:VEVENT
UID:20260419T192956UTC-8429G5MeNa@https://www.eventi.ischia.it/
DTSTAMP:20260419T192956Z
DESCRIPTION:Commedia in due atti di Gaetano Di Maio https://www.eventi.isch
 ia.it/calendario/evento/49151-e-asciut-pazz-u-parrucchian
DTSTART:20250405T183000Z
DTEND:20250405T203000Z
LOCATION:Istituto Comprensivo di Barano - IC 'A. Baldino' (Via Vittorio Ema
 nuele\, 69\, 80070 Barano D'ischia NA\, Italia)
SUMMARY:È asciut pazz u parrucchian
URL:https://www.eventi.ischia.it/calendario/evento/49151-e-asciut-pazz-u-pa
 rrucchian
END:VEVENT
END:VCALENDAR
