BEGIN:VCALENDAR
VERSION:2.0
PRODID:-//https://www.eventi.ischia.it///NONSGML kigkonsult.se iCalcreator 2.10.15//
METHOD:PUBLISH
BEGIN:VEVENT
UID:20260421T041350UTC-71457pi9J9@https://www.eventi.ischia.it/
DTSTAMP:20260421T041350Z
DESCRIPTION:Aspettando il carnevale con magic Grace con giochi\, animazione
  e divertimento https://www.eventi.ischia.it/calendario/evento/44700-aspet
 tando-il-carnevale-con-magic-grace
DTSTART:20250301T093000Z
DTEND:20250301T115500Z
LOCATION:Piedimonte di Barano d'Ischia (Via Provinciale Duca degli Abruzzi\
 , 80070 Barano D'ischia NA\, Italy)
SUMMARY:Aspettando il carnevale con magic Grace
URL:https://www.eventi.ischia.it/calendario/evento/44700-aspettando-il-carn
 evale-con-magic-grace
END:VEVENT
END:VCALENDAR
