BEGIN:VCALENDAR
VERSION:2.0
PRODID:-//https://www.eventi.ischia.it///NONSGML kigkonsult.se iCalcreator 2.10.15//
METHOD:PUBLISH
BEGIN:VEVENT
UID:20260420T043323UTC-9305XuoVUw@https://www.eventi.ischia.it/
DTSTAMP:20260420T043323Z
DESCRIPTION:Un fiore per MatteottiMARTIRE ANTIFASCISTA\nRicordo di Giacomo 
 Matteotti con Michele PetraroiaGarante Provinciale ANPI\nVENERDI' 17 APRIL
 E 2026 | ORE 19:30PIAZZA MATTEOTTI | FORIO (ΝΑ) https://www.eventi.ischia.
 it/calendario/evento/249894-un-fiore-per-matteotti
DTSTART:20260417T173000Z
DTEND:20260417T190000Z
LOCATION:Piazza Giacomo Matteotti (80075 Forio NA\, Italia)
SUMMARY:Un fiore per Matteotti
URL:https://www.eventi.ischia.it/calendario/evento/249894-un-fiore-per-matt
 eotti
END:VEVENT
END:VCALENDAR
